BEGIN:VCALENDAR
VERSION:2.0
PRODID:-//Paradise Point - ECPv6.15.12.2//NONSGML v1.0//EN
CALSCALE:GREGORIAN
METHOD:PUBLISH
X-WR-CALNAME:Paradise Point
X-ORIGINAL-URL:https://paradisepoint.com
X-WR-CALDESC:Events for Paradise Point
REFRESH-INTERVAL;VALUE=DURATION:PT1H
X-Robots-Tag:noindex
X-PUBLISHED-TTL:PT1H
BEGIN:VTIMEZONE
TZID:UTC
BEGIN:STANDARD
TZOFFSETFROM:+0000
TZOFFSETTO:+0000
TZNAME:UTC
DTSTART:20260101T000000
END:STANDARD
END:VTIMEZONE
BEGIN:VEVENT
DTSTART;TZID=UTC:20270113T170000
DTEND;TZID=UTC:20270113T210000
DTSTAMP:20260421T112454
CREATED:20260416T090203Z
LAST-MODIFIED:20260416T090203Z
UID:10000058-1799859600-1799874000@paradisepoint.com
SUMMARY:Baja Wine Wednesdays at Tidal
DESCRIPTION:Wednesdays at Tidal | 5-9PM \nMidweek plans\, upgraded. We invite you to explore the flavors of Baja California through a curated selection of wines paired with Tidal’s popular Prix Fixe Menu—three courses for an exceptional value of $60 per person. \nDiscover a rotating selection of Baja favorites for just $10 per glass. Special bottle pricing available.  \nRESERVATIONS     MENU
URL:https://paradisepoint.com/events/baja-wine-wednesdays-at-tidal-64/
LOCATION:Tidal\, 1404 Vacation Road\, San Diego\, CA\, 92109\, United States
CATEGORIES:Food & Drink Events
ATTACH;FMTTYPE=image/jpeg:https://paradisepoint.com/wp-content/uploads/2026/01/SDRW-Tidal-2.jpg
END:VEVENT
BEGIN:VEVENT
DTSTART;TZID=UTC:20270120T170000
DTEND;TZID=UTC:20270120T210000
DTSTAMP:20260421T112454
CREATED:20260415T114225Z
LAST-MODIFIED:20260415T114225Z
UID:10000059-1800464400-1800478800@paradisepoint.com
SUMMARY:Baja Wine Wednesdays at Tidal
DESCRIPTION:Wednesdays at Tidal | 5-9PM \nMidweek plans\, upgraded. We invite you to explore the flavors of Baja California through a curated selection of wines paired with Tidal’s popular Prix Fixe Menu—three courses for an exceptional value of $60 per person. \nDiscover a rotating selection of Baja favorites for just $10 per glass. Special bottle pricing available.  \nRESERVATIONS     MENU
URL:https://paradisepoint.com/events/baja-wine-wednesdays-at-tidal-48/
LOCATION:Tidal\, 1404 Vacation Road\, San Diego\, CA\, 92109\, United States
CATEGORIES:Food & Drink Events
ATTACH;FMTTYPE=image/jpeg:https://paradisepoint.com/wp-content/uploads/2026/01/SDRW-Tidal-2.jpg
END:VEVENT
BEGIN:VEVENT
DTSTART;TZID=UTC:20270127T170000
DTEND;TZID=UTC:20270127T210000
DTSTAMP:20260421T112454
CREATED:20260415T112956Z
LAST-MODIFIED:20260415T112957Z
UID:10000060-1801069200-1801083600@paradisepoint.com
SUMMARY:Baja Wine Wednesdays at Tidal
DESCRIPTION:Wednesdays at Tidal | 5-9PM \nMidweek plans\, upgraded. We invite you to explore the flavors of Baja California through a curated selection of wines paired with Tidal’s popular Prix Fixe Menu—three courses for an exceptional value of $60 per person. \nDiscover a rotating selection of Baja favorites for just $10 per glass. Special bottle pricing available.  \nRESERVATIONS     MENU
URL:https://paradisepoint.com/events/baja-wine-wednesdays-at-tidal-33/
LOCATION:Tidal\, 1404 Vacation Road\, San Diego\, CA\, 92109\, United States
CATEGORIES:Food & Drink Events
ATTACH;FMTTYPE=image/jpeg:https://paradisepoint.com/wp-content/uploads/2026/01/SDRW-Tidal-2.jpg
END:VEVENT
BEGIN:VEVENT
DTSTART;TZID=UTC:20270203T170000
DTEND;TZID=UTC:20270203T210000
DTSTAMP:20260421T112455
CREATED:20260415T112332Z
LAST-MODIFIED:20260415T112333Z
UID:10000061-1801674000-1801688400@paradisepoint.com
SUMMARY:Baja Wine Wednesdays at Tidal
DESCRIPTION:Wednesdays at Tidal | 5-9PM \nMidweek plans\, upgraded. We invite you to explore the flavors of Baja California through a curated selection of wines paired with Tidal’s popular Prix Fixe Menu—three courses for an exceptional value of $60 per person. \nDiscover a rotating selection of Baja favorites for just $10 per glass. Special bottle pricing available.  \nRESERVATIONS     MENU
URL:https://paradisepoint.com/events/baja-wine-wednesdays-at-tidal-25/
LOCATION:Tidal\, 1404 Vacation Road\, San Diego\, CA\, 92109\, United States
CATEGORIES:Food & Drink Events
ATTACH;FMTTYPE=image/jpeg:https://paradisepoint.com/wp-content/uploads/2026/01/SDRW-Tidal-2.jpg
END:VEVENT
BEGIN:VEVENT
DTSTART;TZID=UTC:20270210T170000
DTEND;TZID=UTC:20270210T210000
DTSTAMP:20260421T112455
CREATED:20260413T092515Z
LAST-MODIFIED:20260417T095804Z
UID:10000062-1802278800-1802293200@paradisepoint.com
SUMMARY:Baja Wine Wednesdays at Tidal
DESCRIPTION:Wednesdays at Tidal | 5-9PM \nMidweek plans\, upgraded. We invite you to explore the flavors of Baja California through a curated selection of wines paired with Tidal’s popular Prix Fixe Menu—three courses for an exceptional value of $60 per person. \nDiscover a rotating selection of Baja favorites for just $10 per glass. Special bottle pricing available.  \nRESERVATIONS     MENU
URL:https://paradisepoint.com/events/baja-wine-wednesdays-at-tidal-2/
LOCATION:Tidal\, 1404 Vacation Road\, San Diego\, CA\, 92109\, United States
CATEGORIES:Food & Drink Events
ATTACH;FMTTYPE=image/jpeg:https://paradisepoint.com/wp-content/uploads/2026/01/SDRW-Tidal-2.jpg
END:VEVENT
BEGIN:VEVENT
DTSTART;TZID=UTC:20270217T170000
DTEND;TZID=UTC:20270217T210000
DTSTAMP:20260421T112455
CREATED:20260415T115453Z
LAST-MODIFIED:20260415T115454Z
UID:10000063-1802883600-1802898000@paradisepoint.com
SUMMARY:Baja Wine Wednesdays at Tidal
DESCRIPTION:Wednesdays at Tidal | 5-9PM \nMidweek plans\, upgraded. We invite you to explore the flavors of Baja California through a curated selection of wines paired with Tidal’s popular Prix Fixe Menu—three courses for an exceptional value of $60 per person. \nDiscover a rotating selection of Baja favorites for just $10 per glass. Special bottle pricing available.  \nRESERVATIONS     MENU
URL:https://paradisepoint.com/events/baja-wine-wednesdays-at-tidal-56/
LOCATION:Tidal\, 1404 Vacation Road\, San Diego\, CA\, 92109\, United States
CATEGORIES:Food & Drink Events
ATTACH;FMTTYPE=image/jpeg:https://paradisepoint.com/wp-content/uploads/2026/01/SDRW-Tidal-2.jpg
END:VEVENT
BEGIN:VEVENT
DTSTART;TZID=UTC:20270224T170000
DTEND;TZID=UTC:20270224T210000
DTSTAMP:20260421T112455
CREATED:20260415T113449Z
LAST-MODIFIED:20260415T113450Z
UID:10000064-1803488400-1803502800@paradisepoint.com
SUMMARY:Baja Wine Wednesdays at Tidal
DESCRIPTION:Wednesdays at Tidal | 5-9PM \nMidweek plans\, upgraded. We invite you to explore the flavors of Baja California through a curated selection of wines paired with Tidal’s popular Prix Fixe Menu—three courses for an exceptional value of $60 per person. \nDiscover a rotating selection of Baja favorites for just $10 per glass. Special bottle pricing available.  \nRESERVATIONS     MENU
URL:https://paradisepoint.com/events/baja-wine-wednesdays-at-tidal-39/
LOCATION:Tidal\, 1404 Vacation Road\, San Diego\, CA\, 92109\, United States
CATEGORIES:Food & Drink Events
ATTACH;FMTTYPE=image/jpeg:https://paradisepoint.com/wp-content/uploads/2026/01/SDRW-Tidal-2.jpg
END:VEVENT
BEGIN:VEVENT
DTSTART;TZID=UTC:20270303T170000
DTEND;TZID=UTC:20270303T210000
DTSTAMP:20260421T112455
CREATED:20260415T112150Z
LAST-MODIFIED:20260415T112150Z
UID:10000065-1804093200-1804107600@paradisepoint.com
SUMMARY:Baja Wine Wednesdays at Tidal
DESCRIPTION:Wednesdays at Tidal | 5-9PM \nMidweek plans\, upgraded. We invite you to explore the flavors of Baja California through a curated selection of wines paired with Tidal’s popular Prix Fixe Menu—three courses for an exceptional value of $60 per person. \nDiscover a rotating selection of Baja favorites for just $10 per glass. Special bottle pricing available.  \nRESERVATIONS     MENU
URL:https://paradisepoint.com/events/baja-wine-wednesdays-at-tidal-22/
LOCATION:Tidal\, 1404 Vacation Road\, San Diego\, CA\, 92109\, United States
CATEGORIES:Food & Drink Events
ATTACH;FMTTYPE=image/jpeg:https://paradisepoint.com/wp-content/uploads/2026/01/SDRW-Tidal-2.jpg
END:VEVENT
BEGIN:VEVENT
DTSTART;TZID=UTC:20270310T170000
DTEND;TZID=UTC:20270310T210000
DTSTAMP:20260421T112455
CREATED:20260415T113112Z
LAST-MODIFIED:20260415T113112Z
UID:10000066-1804698000-1804712400@paradisepoint.com
SUMMARY:Baja Wine Wednesdays at Tidal
DESCRIPTION:Wednesdays at Tidal | 5-9PM \nMidweek plans\, upgraded. We invite you to explore the flavors of Baja California through a curated selection of wines paired with Tidal’s popular Prix Fixe Menu—three courses for an exceptional value of $60 per person. \nDiscover a rotating selection of Baja favorites for just $10 per glass. Special bottle pricing available.  \nRESERVATIONS     MENU
URL:https://paradisepoint.com/events/baja-wine-wednesdays-at-tidal-35/
LOCATION:Tidal\, 1404 Vacation Road\, San Diego\, CA\, 92109\, United States
CATEGORIES:Food & Drink Events
ATTACH;FMTTYPE=image/jpeg:https://paradisepoint.com/wp-content/uploads/2026/01/SDRW-Tidal-2.jpg
END:VEVENT
BEGIN:VEVENT
DTSTART;TZID=UTC:20270317T170000
DTEND;TZID=UTC:20270317T210000
DTSTAMP:20260421T112455
CREATED:20260415T115300Z
LAST-MODIFIED:20260415T115301Z
UID:10000067-1805302800-1805317200@paradisepoint.com
SUMMARY:Baja Wine Wednesdays at Tidal
DESCRIPTION:Wednesdays at Tidal | 5-9PM \nMidweek plans\, upgraded. We invite you to explore the flavors of Baja California through a curated selection of wines paired with Tidal’s popular Prix Fixe Menu—three courses for an exceptional value of $60 per person. \nDiscover a rotating selection of Baja favorites for just $10 per glass. Special bottle pricing available.  \nRESERVATIONS     MENU
URL:https://paradisepoint.com/events/baja-wine-wednesdays-at-tidal-54/
LOCATION:Tidal\, 1404 Vacation Road\, San Diego\, CA\, 92109\, United States
CATEGORIES:Food & Drink Events
ATTACH;FMTTYPE=image/jpeg:https://paradisepoint.com/wp-content/uploads/2026/01/SDRW-Tidal-2.jpg
END:VEVENT
BEGIN:VEVENT
DTSTART;TZID=UTC:20270324T170000
DTEND;TZID=UTC:20270324T210000
DTSTAMP:20260421T112455
CREATED:20260415T113232Z
LAST-MODIFIED:20260415T113232Z
UID:10000068-1805907600-1805922000@paradisepoint.com
SUMMARY:Baja Wine Wednesdays at Tidal
DESCRIPTION:Wednesdays at Tidal | 5-9PM \nMidweek plans\, upgraded. We invite you to explore the flavors of Baja California through a curated selection of wines paired with Tidal’s popular Prix Fixe Menu—three courses for an exceptional value of $60 per person. \nDiscover a rotating selection of Baja favorites for just $10 per glass. Special bottle pricing available.  \nRESERVATIONS     MENU
URL:https://paradisepoint.com/events/baja-wine-wednesdays-at-tidal-36/
LOCATION:Tidal\, 1404 Vacation Road\, San Diego\, CA\, 92109\, United States
CATEGORIES:Food & Drink Events
ATTACH;FMTTYPE=image/jpeg:https://paradisepoint.com/wp-content/uploads/2026/01/SDRW-Tidal-2.jpg
END:VEVENT
BEGIN:VEVENT
DTSTART;TZID=UTC:20270331T170000
DTEND;TZID=UTC:20270331T210000
DTSTAMP:20260421T112455
CREATED:20260415T114536Z
LAST-MODIFIED:20260415T114537Z
UID:10000069-1806512400-1806526800@paradisepoint.com
SUMMARY:Baja Wine Wednesdays at Tidal
DESCRIPTION:Wednesdays at Tidal | 5-9PM \nMidweek plans\, upgraded. We invite you to explore the flavors of Baja California through a curated selection of wines paired with Tidal’s popular Prix Fixe Menu—three courses for an exceptional value of $60 per person. \nDiscover a rotating selection of Baja favorites for just $10 per glass. Special bottle pricing available.  \nRESERVATIONS     MENU
URL:https://paradisepoint.com/events/baja-wine-wednesdays-at-tidal-51/
LOCATION:Tidal\, 1404 Vacation Road\, San Diego\, CA\, 92109\, United States
CATEGORIES:Food & Drink Events
ATTACH;FMTTYPE=image/jpeg:https://paradisepoint.com/wp-content/uploads/2026/01/SDRW-Tidal-2.jpg
END:VEVENT
BEGIN:VEVENT
DTSTART;TZID=UTC:20270407T170000
DTEND;TZID=UTC:20270407T210000
DTSTAMP:20260421T112455
CREATED:20260415T111945Z
LAST-MODIFIED:20260415T111945Z
UID:10000070-1807117200-1807131600@paradisepoint.com
SUMMARY:Baja Wine Wednesdays at Tidal
DESCRIPTION:Wednesdays at Tidal | 5-9PM \nMidweek plans\, upgraded. We invite you to explore the flavors of Baja California through a curated selection of wines paired with Tidal’s popular Prix Fixe Menu—three courses for an exceptional value of $60 per person. \nDiscover a rotating selection of Baja favorites for just $10 per glass. Special bottle pricing available.  \nRESERVATIONS     MENU
URL:https://paradisepoint.com/events/baja-wine-wednesdays-at-tidal-18/
LOCATION:Tidal\, 1404 Vacation Road\, San Diego\, CA\, 92109\, United States
CATEGORIES:Food & Drink Events
ATTACH;FMTTYPE=image/jpeg:https://paradisepoint.com/wp-content/uploads/2026/01/SDRW-Tidal-2.jpg
END:VEVENT
BEGIN:VEVENT
DTSTART;TZID=UTC:20270414T170000
DTEND;TZID=UTC:20270414T210000
DTSTAMP:20260421T112455
CREATED:20260415T112706Z
LAST-MODIFIED:20260415T112706Z
UID:10000071-1807722000-1807736400@paradisepoint.com
SUMMARY:Baja Wine Wednesdays at Tidal
DESCRIPTION:Wednesdays at Tidal | 5-9PM \nMidweek plans\, upgraded. We invite you to explore the flavors of Baja California through a curated selection of wines paired with Tidal’s popular Prix Fixe Menu—three courses for an exceptional value of $60 per person. \nDiscover a rotating selection of Baja favorites for just $10 per glass. Special bottle pricing available.  \nRESERVATIONS     MENU
URL:https://paradisepoint.com/events/baja-wine-wednesdays-at-tidal-29/
LOCATION:Tidal\, 1404 Vacation Road\, San Diego\, CA\, 92109\, United States
CATEGORIES:Food & Drink Events
ATTACH;FMTTYPE=image/jpeg:https://paradisepoint.com/wp-content/uploads/2026/01/SDRW-Tidal-2.jpg
END:VEVENT
BEGIN:VEVENT
DTSTART;TZID=UTC:20270421T170000
DTEND;TZID=UTC:20270421T210000
DTSTAMP:20260421T112455
CREATED:20260415T112453Z
LAST-MODIFIED:20260415T112454Z
UID:10000072-1808326800-1808341200@paradisepoint.com
SUMMARY:Baja Wine Wednesdays at Tidal
DESCRIPTION:Wednesdays at Tidal | 5-9PM \nMidweek plans\, upgraded. We invite you to explore the flavors of Baja California through a curated selection of wines paired with Tidal’s popular Prix Fixe Menu—three courses for an exceptional value of $60 per person. \nDiscover a rotating selection of Baja favorites for just $10 per glass. Special bottle pricing available.  \nRESERVATIONS     MENU
URL:https://paradisepoint.com/events/baja-wine-wednesdays-at-tidal-27/
LOCATION:Tidal\, 1404 Vacation Road\, San Diego\, CA\, 92109\, United States
CATEGORIES:Food & Drink Events
ATTACH;FMTTYPE=image/jpeg:https://paradisepoint.com/wp-content/uploads/2026/01/SDRW-Tidal-2.jpg
END:VEVENT
BEGIN:VEVENT
DTSTART;TZID=UTC:20270428T170000
DTEND;TZID=UTC:20270428T210000
DTSTAMP:20260421T112455
CREATED:20260119T021108Z
LAST-MODIFIED:20260415T115737Z
UID:10000073-1808931600-1808946000@paradisepoint.com
SUMMARY:Baja Wine Wednesdays at Tidal
DESCRIPTION:Wednesdays at Tidal | 5-9PM \nMidweek plans\, upgraded. We invite you to explore the flavors of Baja California through a curated selection of wines paired with Tidal’s popular Prix Fixe Menu—three courses for an exceptional value of $60 per person. \nDiscover a rotating selection of Baja favorites for just $10 per glass. Special bottle pricing available.  \nRESERVATIONS     MENU
URL:https://paradisepoint.com/events/baja-wine-wednesdays-at-tidal/2027-04-28/
LOCATION:Tidal\, 1404 Vacation Road\, San Diego\, CA\, 92109\, United States
CATEGORIES:Food & Drink Events
ATTACH;FMTTYPE=image/jpeg:https://paradisepoint.com/wp-content/uploads/2026/01/SDRW-Tidal-2.jpg
END:VEVENT
BEGIN:VEVENT
DTSTART;TZID=UTC:20270505T170000
DTEND;TZID=UTC:20270505T210000
DTSTAMP:20260421T112455
CREATED:20260415T113403Z
LAST-MODIFIED:20260415T113403Z
UID:10000074-1809536400-1809550800@paradisepoint.com
SUMMARY:Baja Wine Wednesdays at Tidal
DESCRIPTION:Wednesdays at Tidal | 5-9PM \nMidweek plans\, upgraded. We invite you to explore the flavors of Baja California through a curated selection of wines paired with Tidal’s popular Prix Fixe Menu—three courses for an exceptional value of $60 per person. \nDiscover a rotating selection of Baja favorites for just $10 per glass. Special bottle pricing available.  \nRESERVATIONS     MENU
URL:https://paradisepoint.com/events/baja-wine-wednesdays-at-tidal-38/
LOCATION:Tidal\, 1404 Vacation Road\, San Diego\, CA\, 92109\, United States
CATEGORIES:Food & Drink Events
ATTACH;FMTTYPE=image/jpeg:https://paradisepoint.com/wp-content/uploads/2026/01/SDRW-Tidal-2.jpg
END:VEVENT
BEGIN:VEVENT
DTSTART;TZID=UTC:20270512T170000
DTEND;TZID=UTC:20270512T210000
DTSTAMP:20260421T112455
CREATED:20260415T114136Z
LAST-MODIFIED:20260415T114136Z
UID:10000075-1810141200-1810155600@paradisepoint.com
SUMMARY:Baja Wine Wednesdays at Tidal
DESCRIPTION:Wednesdays at Tidal | 5-9PM \nMidweek plans\, upgraded. We invite you to explore the flavors of Baja California through a curated selection of wines paired with Tidal’s popular Prix Fixe Menu—three courses for an exceptional value of $60 per person. \nDiscover a rotating selection of Baja favorites for just $10 per glass. Special bottle pricing available.  \nRESERVATIONS     MENU
URL:https://paradisepoint.com/events/baja-wine-wednesdays-at-tidal-47/
LOCATION:Tidal\, 1404 Vacation Road\, San Diego\, CA\, 92109\, United States
CATEGORIES:Food & Drink Events
ATTACH;FMTTYPE=image/jpeg:https://paradisepoint.com/wp-content/uploads/2026/01/SDRW-Tidal-2.jpg
END:VEVENT
BEGIN:VEVENT
DTSTART;TZID=UTC:20270519T170000
DTEND;TZID=UTC:20270519T210000
DTSTAMP:20260421T112455
CREATED:20260415T110926Z
LAST-MODIFIED:20260417T095308Z
UID:10000076-1810746000-1810760400@paradisepoint.com
SUMMARY:Baja Wine Wednesdays at Tidal
DESCRIPTION:Wednesdays at Tidal | 5-9PM \nMidweek plans\, upgraded. We invite you to explore the flavors of Baja California through a curated selection of wines paired with Tidal’s popular Prix Fixe Menu—three courses for an exceptional value of $60 per person. \nDiscover a rotating selection of Baja favorites for just $10 per glass. Special bottle pricing available.  \nRESERVATIONS     MENU
URL:https://paradisepoint.com/events/baja-wine-wednesdays-at-tidal-5/
LOCATION:Tidal\, 1404 Vacation Road\, San Diego\, CA\, 92109\, United States
CATEGORIES:Food & Drink Events
ATTACH;FMTTYPE=image/jpeg:https://paradisepoint.com/wp-content/uploads/2026/01/SDRW-Tidal-2.jpg
END:VEVENT
BEGIN:VEVENT
DTSTART;TZID=UTC:20270526T170000
DTEND;TZID=UTC:20270526T210000
DTSTAMP:20260421T112455
CREATED:20260415T112300Z
LAST-MODIFIED:20260415T112300Z
UID:10000077-1811350800-1811365200@paradisepoint.com
SUMMARY:Baja Wine Wednesdays at Tidal
DESCRIPTION:Wednesdays at Tidal | 5-9PM \nMidweek plans\, upgraded. We invite you to explore the flavors of Baja California through a curated selection of wines paired with Tidal’s popular Prix Fixe Menu—three courses for an exceptional value of $60 per person. \nDiscover a rotating selection of Baja favorites for just $10 per glass. Special bottle pricing available.  \nRESERVATIONS     MENU
URL:https://paradisepoint.com/events/baja-wine-wednesdays-at-tidal-24/
LOCATION:Tidal\, 1404 Vacation Road\, San Diego\, CA\, 92109\, United States
CATEGORIES:Food & Drink Events
ATTACH;FMTTYPE=image/jpeg:https://paradisepoint.com/wp-content/uploads/2026/01/SDRW-Tidal-2.jpg
END:VEVENT
BEGIN:VEVENT
DTSTART;TZID=UTC:20270602T170000
DTEND;TZID=UTC:20270602T210000
DTSTAMP:20260421T112455
CREATED:20260415T115413Z
LAST-MODIFIED:20260415T115413Z
UID:10000078-1811955600-1811970000@paradisepoint.com
SUMMARY:Baja Wine Wednesdays at Tidal
DESCRIPTION:Wednesdays at Tidal | 5-9PM \nMidweek plans\, upgraded. We invite you to explore the flavors of Baja California through a curated selection of wines paired with Tidal’s popular Prix Fixe Menu—three courses for an exceptional value of $60 per person. \nDiscover a rotating selection of Baja favorites for just $10 per glass. Special bottle pricing available.  \nRESERVATIONS     MENU
URL:https://paradisepoint.com/events/baja-wine-wednesdays-at-tidal-55/
LOCATION:Tidal\, 1404 Vacation Road\, San Diego\, CA\, 92109\, United States
CATEGORIES:Food & Drink Events
ATTACH;FMTTYPE=image/jpeg:https://paradisepoint.com/wp-content/uploads/2026/01/SDRW-Tidal-2.jpg
END:VEVENT
END:VCALENDAR