BEGIN:VCALENDAR
VERSION:2.0
PRODID:-//Paradise Point - ECPv6.15.12.2//NONSGML v1.0//EN
CALSCALE:GREGORIAN
METHOD:PUBLISH
X-WR-CALNAME:Paradise Point
X-ORIGINAL-URL:https://paradisepoint.com
X-WR-CALDESC:Events for Paradise Point
REFRESH-INTERVAL;VALUE=DURATION:PT1H
X-Robots-Tag:noindex
X-PUBLISHED-TTL:PT1H
BEGIN:VTIMEZONE
TZID:UTC
BEGIN:STANDARD
TZOFFSETFROM:+0000
TZOFFSETTO:+0000
TZNAME:UTC
DTSTART:20250101T000000
END:STANDARD
END:VTIMEZONE
BEGIN:VEVENT
DTSTART;TZID=UTC:20260510T110000
DTEND;TZID=UTC:20260510T150000
DTSTAMP:20260420T095347
CREATED:20260407T232453Z
LAST-MODIFIED:20260413T080641Z
UID:10000083-1778410800-1778425200@paradisepoint.com
SUMMARY:Mother's Day Brunch on the Bay
DESCRIPTION:Mimosas + Mom\nSunday\, May 10th | 11AM – 3PM \nThis Mother’s Day\, skip the flowers and treat Mom to something she’ll truly enjoy—a waterfront brunch at Tidal\, bottomless mimosas included. \nFrom fresh seafood and carving stations to made-to-order omelets\, pancakes\, and a full dessert spread\, this chef-curated experience is designed for indulging and slowing down together. Add in panoramic Mission Bay views\, and you’ve got the perfect setting for a day all about her. \nAdults $125 | Children 5–12 $50 | Under 5 complimentaryPrice excludes tax and service charge. \nRESERVE A TABLE    VIEW MENU \n 
URL:https://paradisepoint.com/events/mothers-day-brunch-on-the-bay/
LOCATION:Tidal\, 1404 Vacation Road\, San Diego\, CA\, 92109\, United States
CATEGORIES:Community Events,Food & Drink Events,Holiday Events,Resort Events,Seasonal Events
ATTACH;FMTTYPE=image/jpeg:https://paradisepoint.com/wp-content/uploads/2026/04/Mothers-Day-2.jpg
END:VEVENT
END:VCALENDAR