BEGIN:VCALENDAR
VERSION:2.0
PRODID:-//Paradise Point - ECPv6.15.12.2//NONSGML v1.0//EN
CALSCALE:GREGORIAN
METHOD:PUBLISH
X-WR-CALNAME:Paradise Point
X-ORIGINAL-URL:https://paradisepoint.com
X-WR-CALDESC:Events for Paradise Point
REFRESH-INTERVAL;VALUE=DURATION:PT1H
X-Robots-Tag:noindex
X-PUBLISHED-TTL:PT1H
BEGIN:VTIMEZONE
TZID:UTC
BEGIN:STANDARD
TZOFFSETFROM:+0000
TZOFFSETTO:+0000
TZNAME:UTC
DTSTART:20250101T000000
END:STANDARD
END:VTIMEZONE
BEGIN:VEVENT
DTSTART;TZID=UTC:20260415T170000
DTEND;TZID=UTC:20260415T210000
DTSTAMP:20260421T083442
CREATED:20260415T111551Z
LAST-MODIFIED:20260415T111551Z
UID:10000019-1776272400-1776286800@paradisepoint.com
SUMMARY:Baja Wine Wednesdays at Tidal
DESCRIPTION:Wednesdays at Tidal | 5-9PM \nMidweek plans\, upgraded. We invite you to explore the flavors of Baja California through a curated selection of wines paired with Tidal’s popular Prix Fixe Menu—three courses for an exceptional value of $60 per person. \nDiscover a rotating selection of Baja favorites for just $10 per glass. Special bottle pricing available.  \nRESERVATIONS     MENU
URL:https://paradisepoint.com/events/baja-wine-wednesdays-at-tidal-14/
LOCATION:Tidal\, 1404 Vacation Road\, San Diego\, CA\, 92109\, United States
CATEGORIES:Food & Drink Events
ATTACH;FMTTYPE=image/jpeg:https://paradisepoint.com/wp-content/uploads/2026/01/SDRW-Tidal-2.jpg
END:VEVENT
BEGIN:VEVENT
DTSTART;TZID=UTC:20260408T170000
DTEND;TZID=UTC:20260408T210000
DTSTAMP:20260421T083442
CREATED:20260415T112842Z
LAST-MODIFIED:20260415T112843Z
UID:10000018-1775667600-1775682000@paradisepoint.com
SUMMARY:Baja Wine Wednesdays at Tidal
DESCRIPTION:Wednesdays at Tidal | 5-9PM \nMidweek plans\, upgraded. We invite you to explore the flavors of Baja California through a curated selection of wines paired with Tidal’s popular Prix Fixe Menu—three courses for an exceptional value of $60 per person. \nDiscover a rotating selection of Baja favorites for just $10 per glass. Special bottle pricing available.  \nRESERVATIONS     MENU
URL:https://paradisepoint.com/events/baja-wine-wednesdays-at-tidal-31/
LOCATION:Tidal\, 1404 Vacation Road\, San Diego\, CA\, 92109\, United States
CATEGORIES:Food & Drink Events
ATTACH;FMTTYPE=image/jpeg:https://paradisepoint.com/wp-content/uploads/2026/01/SDRW-Tidal-2.jpg
END:VEVENT
BEGIN:VEVENT
DTSTART;TZID=UTC:20260405T113000
DTEND;TZID=UTC:20260405T150000
DTSTAMP:20260421T083442
CREATED:20260226T053747Z
LAST-MODIFIED:20260322T063426Z
UID:10000082-1775388600-1775401200@paradisepoint.com
SUMMARY:Easter Brunch on the Bay
DESCRIPTION:Sunday\, April 5th at Tidal\n11:30 AM – 3 PM \nCelebrate Easter Sunday on Mission Bay with a relaxed\, waterfront brunch at Tidal. Gather with family and friends for a chef-curated buffet featuring seasonal spring flavors\, coastal favorites\, and a side of bottomless mimosas. \nSavor a chef-curated Easter spread featuring attended carving stations\, seasonal brunch favorites\, fresh seafood\, made-to-order omelets\, and an abundant dessert display. Dine on the outdoor deck overlooking Mission Bay\, with panoramic waterfront views just beyond your table.  \nWhether you’re continuing a holiday tradition or starting a new one\, Easter at Tidal is a relaxed\, scenic way to celebrate. \nAdults $115++ | Children 5–12 $45++ | Under 5 years\, free \nPrice does not include service charge and tax. \nReservations recommended. \nRESERVATIONS     MENU
URL:https://paradisepoint.com/events/easter-brunch-on-the-bay/
LOCATION:Tidal\, 1404 Vacation Road\, San Diego\, CA\, 92109\, United States
CATEGORIES:Food & Drink Events,Holiday Events
ATTACH;FMTTYPE=image/jpeg:https://paradisepoint.com/wp-content/uploads/2026/02/Easter-Brunch-2000-x-980-px.jpg
END:VEVENT
BEGIN:VEVENT
DTSTART;TZID=UTC:20260401T170000
DTEND;TZID=UTC:20260401T210000
DTSTAMP:20260421T083442
CREATED:20260415T112116Z
LAST-MODIFIED:20260417T101102Z
UID:10000017-1775062800-1775077200@paradisepoint.com
SUMMARY:Baja Wine Wednesdays at Tidal
DESCRIPTION:Wednesdays at Tidal | 5-9PM \nMidweek plans\, upgraded. We invite you to explore the flavors of Baja California through a curated selection of wines paired with Tidal’s popular Prix Fixe Menu—three courses for an exceptional value of $60 per person. \nDiscover a rotating selection of Baja favorites for just $10 per glass. Special bottle pricing available.  \nRESERVATIONS     MENU
URL:https://paradisepoint.com/events/baja-wine-wednesdays-at-tidal-21/
LOCATION:Tidal\, 1404 Vacation Road\, San Diego\, CA\, 92109\, United States
CATEGORIES:Food & Drink Events
ATTACH;FMTTYPE=image/jpeg:https://paradisepoint.com/wp-content/uploads/2026/01/SDRW-Tidal-2.jpg
END:VEVENT
BEGIN:VEVENT
DTSTART;TZID=UTC:20260325T170000
DTEND;TZID=UTC:20260325T210000
DTSTAMP:20260421T083442
CREATED:20260415T111448Z
LAST-MODIFIED:20260417T101135Z
UID:10000016-1774458000-1774472400@paradisepoint.com
SUMMARY:Baja Wine Wednesdays at Tidal
DESCRIPTION:Wednesdays at Tidal | 5-9PM \nMidweek plans\, upgraded. We invite you to explore the flavors of Baja California through a curated selection of wines paired with Tidal’s popular Prix Fixe Menu—three courses for an exceptional value of $60 per person. \nDiscover a rotating selection of Baja favorites for just $10 per glass. Special bottle pricing available.  \nRESERVATIONS     MENU
URL:https://paradisepoint.com/events/baja-wine-wednesdays-at-tidal-12/
LOCATION:Tidal\, 1404 Vacation Road\, San Diego\, CA\, 92109\, United States
CATEGORIES:Food & Drink Events
ATTACH;FMTTYPE=image/jpeg:https://paradisepoint.com/wp-content/uploads/2026/01/SDRW-Tidal-2.jpg
END:VEVENT
END:VCALENDAR